BEGIN:VCALENDAR
VERSION:2.0
PRODID:-//QatarDebate Center - ECPv6.15.20//NONSGML v1.0//EN
CALSCALE:GREGORIAN
METHOD:PUBLISH
X-WR-CALNAME:QatarDebate Center
X-ORIGINAL-URL:https://www.qatardebate.org/ar/
X-WR-CALDESC:Events for QatarDebate Center
REFRESH-INTERVAL;VALUE=DURATION:PT1H
X-Robots-Tag:noindex
X-PUBLISHED-TTL:PT1H
BEGIN:VTIMEZONE
TZID:Asia/Qatar
BEGIN:STANDARD
TZOFFSETFROM:+0300
TZOFFSETTO:+0300
TZNAME:+03
DTSTART:20190101T000000
END:STANDARD
END:VTIMEZONE
BEGIN:VEVENT
DTSTART;TZID=Asia/Qatar:20211018T160000
DTEND;TZID=Asia/Qatar:20211115T180000
DTSTAMP:20260424T120537
CREATED:20210927T071753Z
LAST-MODIFIED:20210927T071753Z
UID:5407-1634572800-1636999200@www.qatardebate.org
SUMMARY:نادي الخطابة باللغة الإنجليزية بالتعاون مع السفارة الأمريكية
DESCRIPTION:نادي الخطابة باللغة الإنجليزية\n  \nعن البرنامج \nمركز مناظرات قطر بالتعاون مع السفارة الأمريكية تطلق نادي الخطابة باللغة الإنجليزية. الهدف من هذا النادي هو توفير مساحة للمشاركين لممارسة اللغة الإنجليزية، وتطوير فهم أوضح لكيفية التواصل بفعالية، والاستعداد للمشاركة في المناقشات بثقة في التعبير عن آرائهم. \n\n  \nالتاريخ: خمس جلسات كل أثنين ابتداءاً من 18 أكتوبر وحتى ٢ نوفمبر \nالوقت: 4:00-6:00 مساءً \nالمكان: أونلاين – سيتم التواصل مع المشاركين عن تفاصيل الجلسة \n  \nهذه هي فرصتكم لتقوية مستوى اللغة الإنجليزية لديكم مع مدربي مركز مناظرات قطر، اضغط هنا للتسجيل في البرنامج الآن. \n  \n 
URL:https://www.qatardebate.org/ar/event-ar/qd-us-english-speaking-club/
LOCATION:Online
CATEGORIES:English Programs,قسم اللغة الإنجليزية
ATTACH;FMTTYPE=image/jpeg:https://www.qatardebate.org/wp-content/uploads/2021/09/3-2-scaled.jpg
ORGANIZER;CN="QatarDebate":MAILTO:qatardebate@qf.org.qa
END:VEVENT
BEGIN:VEVENT
DTSTART;TZID=Asia/Qatar:20211012T160000
DTEND;TZID=Asia/Qatar:20211116T180000
DTSTAMP:20260424T120537
CREATED:20210831T105744Z
LAST-MODIFIED:20210905T113317Z
UID:5241-1634054400-1637085600@www.qatardebate.org
SUMMARY:سلسلة الورش المفتوحة
DESCRIPTION:عن الورشة \nتعتبر سلسلة الورش المفتوحة للمدارس الثانوية في مناظرات قطر جزءًا أساسيًا من برامجنا التعليمية المنتظمة المقدمة لطلبة المدارس. تهدف هذه الدورات إلى تعريف الطلبة بمبادئ النقاش كالتحدث أمام الجمهور ، والتفكير النقدي والحجج ، والتفنيد ،وتحليل القضايا وبناء الموقف. \n  \nالتاريخ: ٦ ورش تدريبية، من تاريخ 12 أكتوبر وحتى 16 نوفمبر 2021. \nالوقت: 4:00 – 7:00 مساءً \n  \nللتسجيل اضغط هنا \nللاستفسار أو لمزيد من المعلومات يمكنكم الت،اصل معنا عبر العنوان التالي: qdep@qf.org.qa \n*هذه الورشة باللغة الإنجليزية. \n*آخر موعد للتسجيل: 30 سبتمبر 2021 \n 
URL:https://www.qatardebate.org/ar/event-ar/open-workshop-series-3/
LOCATION:Online
CATEGORIES:English Programs,قسم اللغة الإنجليزية
ATTACH;FMTTYPE=image/jpeg:https://www.qatardebate.org/wp-content/uploads/2021/08/DCS-70-scaled.jpg
ORGANIZER;CN="QatarDebate":MAILTO:qatardebate@qf.org.qa
END:VEVENT
BEGIN:VEVENT
DTSTART;TZID=Asia/Qatar:20211004T160000
DTEND;TZID=Asia/Qatar:20211018T190000
DTSTAMP:20260424T120537
CREATED:20210831T105146Z
LAST-MODIFIED:20210831T110653Z
UID:5237-1633363200-1634583600@www.qatardebate.org
SUMMARY:تدريب وإدارة نادي مناظرات
DESCRIPTION:عن الورشة \nتستهدف سلسلة التدريب هذه المدربين والمنسقين الجدد والحاليين في مجتمع مناظرات المدارس الخاص بنا. وهي عبارة عن سلسلة من 5 جلسات تدريبية للمعلمين وطلاب الجامعات لتسهيل تقديم المناظرات أو إدارة نوادي وأنشطة المناظرة في المدارس. يهدف التدريب إلى تزويد مدربي المناظرات الطموحين بمجموعة من الأدوات والموارد حول كيفية بدء أو إعادة إشعال نادي مناظرات وإدارة الجلسات بشكل مستقل في نوادي المناظرات الخاصة بهم. \n  \nالتاريخ: خمس ورش تدريبية، 4 – 18 أكتوبر 2021. \nالوقت: ٤:٠٠ – ٧:٠٠ مساءً \n  \nللتسجيل اضغط هنا \nللاستفسار أو لمزيد من المعلومات يمكنكم الت،اصل معنا عبر العنوان التالي: qdep@qf.org.qa \n*هذه الورشة باللغة الإنجليزية. \n*آخر موعد للتسجيل: 28 سبتمير 2021 \n 
URL:https://www.qatardebate.org/ar/event-ar/running-judging-debate-club-2/
LOCATION:Online
CATEGORIES:English Programs,قسم اللغة الإنجليزية
ATTACH;FMTTYPE=image/jpeg:https://www.qatardebate.org/wp-content/uploads/2021/08/Open-workshop-scaled.jpg
ORGANIZER;CN="QatarDebate":MAILTO:qatardebate@qf.org.qa
END:VEVENT
BEGIN:VEVENT
DTSTART;TZID=Asia/Qatar:20210925T100000
DTEND;TZID=Asia/Qatar:20210925T170000
DTSTAMP:20260424T120537
CREATED:20210831T104129Z
LAST-MODIFIED:20210831T104129Z
UID:5225-1632564000-1632589200@www.qatardebate.org
SUMMARY:مهارات التناظر وفق نظام البرلمان البريطاني
DESCRIPTION:عن الورشة \nيسر مركز مناظرات قطر أن يعلن عن انطلاق موسم المناظرات لسنة 2021-2022 مع هذه الورشة الأساسية عن التناظر باستخدام نظام البرلمان البريطاني. \nستكون هذه الورشة للطلاب المبتدئين الجدد في المرحلة الجامعية والمتناظرين السابقين في مرحلة المدارس وينتقلون الآن إلى المرحلة الجامعية، بالإضافة إلى المحكمين الجدد لمن لهم رغبة في تحكيم جولات المناظرات بنظام البرلمان البريطاني. \n  \nالتاريخ: السبت، 25 سبتمبر 2021. \nالوقت:  \n\nللمتناظرين – 10:00 صباحاً – 01:00 مساءً\nللمحكمين – 02:00 – 05:00 مساءً\n\n  \nللتسجيل اضغط هنا \nللاستفسار أو لمزيد من المعلومات يمكنكم الت،اصل معنا عبر العنوان التالي: qdep@qf.org.qa \n*هذه الورشة باللغة الإنجليزية. \n*آخر موعد للتسجيل: 20 سبتمبر 2021 \n 
URL:https://www.qatardebate.org/ar/event-ar/bp-101-2/
LOCATION:Online
CATEGORIES:English Programs,قسم اللغة الإنجليزية
ATTACH;FMTTYPE=image/jpeg:https://www.qatardebate.org/wp-content/uploads/2021/08/BP101-scaled.jpg
ORGANIZER;CN="QatarDebate":MAILTO:qatardebate@qf.org.qa
END:VEVENT
BEGIN:VEVENT
DTSTART;TZID=Asia/Qatar:20210905T080000
DTEND;TZID=Asia/Qatar:20211115T170000
DTSTAMP:20260424T120537
CREATED:20210905T090604Z
LAST-MODIFIED:20210905T114826Z
UID:5302-1630828800-1636995600@www.qatardebate.org
SUMMARY:عنابي المناظرات ٢٠٢١-٢٠٢٢ - الفريق الإنجليزي
DESCRIPTION:الفريق الوطني للمناظرات باللغة الإنجليزية لعام ٢٠٢١/٢٠٢٢\n  \nباب التسجيل للانضمام إلى الفريق الوطني للمناظرات باللغة الإنجليزية مفتوح الآن! \nسيمثل الفريق الوطني دولة قطر في البطولات الدولية للمناظرات من ضمنها بطولة العالم لمناظرات المدارس في صيف ٢٠٢٢. سارعوا بالتسجيل الآن، المقاعد محدودة. \n  \nشروط الانضمام لفريق عنابي المناظرات: \no    قطري الجنسية \no  أن يكون عمر المتقدم/ة ما بين ١٤ – ١٩ عام (للطلبة في أعمار ال١٤ وما دون سيتم انضمامهم للفريق التأهيلي للفريق الوطني) \no    لا يتطلب وجود خبرة سابقة في مجال المناظرات \n  \nعند التسجيل ، سيشارك الطلبة في سلسلة من الدورات التدريبية ابتداءً من 19 سبتمبر 2021 التي تسبق عملية الاختيار ، حيث سيختار فريقنا في مركز مناظرات قطر ما يصل إلى 5 أفراد للانضمام إلى فريق عنابي المناظرات. \n  \nاضغط هنا للتسجيل \n  \n 
URL:https://www.qatardebate.org/ar/event-ar/tq-2021-22/
CATEGORIES:English Programs,قسم اللغة الإنجليزية
ATTACH;FMTTYPE=image/jpeg:https://www.qatardebate.org/wp-content/uploads/2020/09/0118.jpg
END:VEVENT
BEGIN:VEVENT
DTSTART;TZID=Asia/Qatar:20210419T140000
DTEND;TZID=Asia/Qatar:20210505T160000
DTSTAMP:20260424T120537
CREATED:20210419T095220Z
LAST-MODIFIED:20210419T104406Z
UID:4733-1618840800-1620230400@www.qatardebate.org
SUMMARY:سلسة ورش رمضان: تعزيز المحتوى المعرفي
DESCRIPTION:نبذة عن الورشة\nينظم مركز مناظرات قطر خلال شهر رمضان المبارك سلسلة ورش تدريبية عبر الإنترنت لتعزيز المحتوى المعرفي في المناظرات. ستكون هذه سلسلة من 6 أجزاء تناقش النظريات والفلسفات الشائعة المستخدمة عادة في المناظرات. سيشارك الطلبة في مناقشات وأبحاث حية مع مدربي المركز حول موضوعات تتراوح من المبادئ الاقتصادية إلى العلاقات الدولية والأخلاق ، إلخ. \n  \nتفاصيل الورشة\nالمكان: عبر الإنترنت – سيتم ارسال الرابط بعد التسجيل في الورش \nالتاريخ: الإثنين و الأربعاء \nالوقت: 2:00 – 3:30 مساءً \n*هذه الورشة ستقام باللغة الإنجليزية \n  \nجلسات الورش التدريبية\n\n– الأخلاق في استخدام الذكاء الاصطناعي – ١٩ أبريل – اضغط هنا للتسجيل\n– التناظر في الاقتصاد – ٢١ أبريل – اضغط هنا للتسجيل\n– العدالة الاجتماعية في الجنوب – ٢٦ أبريل – اضغط هنا للتسجيل\n– التناظر في الفلسفة الأخلاقية – ٢٨ أبريل – اضغط هنا للتسجيل\n– الرأسمالية والحركات الاجتماعية – ٣ مايو – اضغط هنا للتسجيل\n– التناظر حول البيئة – ٥ مايو – اضغط هنا للتسجيل
URL:https://www.qatardebate.org/ar/event-ar/qd-ramadan-webinars-debate-content-series/
LOCATION:Online
CATEGORIES:English Programs
ATTACH;FMTTYPE=image/jpeg:https://www.qatardebate.org/wp-content/uploads/2021/04/Debate-format-workshop-scaled.jpg
ORGANIZER;CN="QatarDebate":MAILTO:qatardebate@qf.org.qa
END:VEVENT
BEGIN:VEVENT
DTSTART;VALUE=DATE:20201024
DTEND;VALUE=DATE:20201025
DTSTAMP:20260424T120537
CREATED:20201022T075940Z
LAST-MODIFIED:20201022T101214Z
UID:4173-1603497600-1603583999@www.qatardebate.org
SUMMARY:الدوري الأول لمناظرات الجامعات باللغة الإنجليزية - ٢٠٢٠/٢٠٢١
DESCRIPTION:يسعدنا آن نطلق موسم المناظرات للعام ٢٠٢٠/٢٠٢١ مع الدوري الأول لمناظرات الجامعات باللغة الإنجليزية. \nهذه النسخة من دوري مناظرات الجامعات ستكون نسخة فريدة من نوعها حيث سيتم تنظيمها عن بعد عبر الإنترنت بمشاركة أغلب الجامعات في قطر للمنافسة على لقب الدوري للعام الحالي. \nسيشارك في هذه النسخة من الدوري ٣٠ فريقاً يمثلون ١٠ جامعات من قطر. \nبالتوفيق للجميع. \n  \nلمزيد من المعلومات يمكنكم التواصل معنا عبر الإيميل التالي: qdep@qf.org.qa \n 
URL:https://www.qatardebate.org/ar/event-ar/1st-qudl-2020-2021/
LOCATION:Online
CATEGORIES:English Programs,قسم اللغة الإنجليزية
ATTACH;FMTTYPE=image/jpeg:https://www.qatardebate.org/wp-content/uploads/2020/10/QUDL-scaled.jpg
ORGANIZER;CN="QatarDebate":MAILTO:qatardebate@qf.org.qa
END:VEVENT
BEGIN:VEVENT
DTSTART;TZID=Asia/Qatar:20201006T160000
DTEND;TZID=Asia/Qatar:20201110T180000
DTSTAMP:20260424T120537
CREATED:20200906T173548Z
LAST-MODIFIED:20200906T174118Z
UID:3892-1602000000-1605031200@www.qatardebate.org
SUMMARY:سلسلة الورش المفتوحة
DESCRIPTION:عن الورشة \nتعتبر سلسلة الورش المفتوحة للمدارس الثانوية في مناظرات قطر جزءًا أساسيًا من برامجنا التعليمية المنتظمة المقدمة لطلبة المدارس. غالبًا ما تكون هذه السلسة من الورش التدريبية بوابة لطلبة المدارس لتطوير مهاراتهم في مجال المناظرات والتعمق أكثر في هذا العالم. \n  \nالتاريخ: ٦ ورش تدريبية، من تاريخ ٦ أكتوبر وحتى ١٠ نوفمبر ٢٠٢٠. \nالوقت: ٤:٠٠ – ٦:٠٠ مساءً \n  \nللتسجيل اضغط هنا \nللاستفسار أو لمزيد من المعلومات يمكنكم الت،اصل معنا عبر العنوان التالي: qdep@qf.org.qa \n*هذه الورشة باللغة الإنجليزية. \n*آخر موعد للتسجيل: ٢٨ سبتمبر ٢٠٢٠ \n 
URL:https://www.qatardebate.org/ar/event-ar/copy-of-%d8%aa%d8%af%d8%b1%d9%8a%d8%a8-%d9%88%d8%a5%d8%af%d8%a7%d8%b1%d8%a9-%d9%86%d8%a7%d8%af%d9%8a-%d9%85%d9%86%d8%a7%d8%b8%d8%b1%d8%a7%d8%aa-dup/
LOCATION:Online
CATEGORIES:English Programs,قسم اللغة الإنجليزية
ATTACH;FMTTYPE=image/jpeg:https://www.qatardebate.org/wp-content/uploads/2020/09/Feb.-4th-QUDL-1-scaled.jpg
ORGANIZER;CN="QatarDebate":MAILTO:qatardebate@qf.org.qa
END:VEVENT
BEGIN:VEVENT
DTSTART;TZID=Asia/Qatar:20201005T160000
DTEND;TZID=Asia/Qatar:20201102T173000
DTSTAMP:20260424T120537
CREATED:20200903T080854Z
LAST-MODIFIED:20200924T064452Z
UID:3859-1601913600-1604338200@www.qatardebate.org
SUMMARY:نادي الخطابة باللغة الإنجليزية
DESCRIPTION:نادي الخطابة باللغة الإنجليزية\n  \nعن البرنامج \nمركز مناظرات قطر بالتعاون مع السفارة الأمريكية تطلق نادي الخطابة باللغة الإنجليزية. الهدف من هذا النادي هو توفير مساحة للمشاركين لممارسة اللغة الإنجليزية، وتطوير فهم أوضح لكيفية التواصل بفعالية، والاستعداد للمشاركة في المناقشات بثقة في التعبير عن آرائهم. \n\n  \nالتاريخ: خمس جلسات كل أثنين ابتداءاً من ٥ أكتوبر وحتى ٢ نوفمبر \nالوقت: 4:00-5:30 مساءً \nالمكان: أونلاين – سيتم التواصل مع المشاركين عن تفاصيل الجلسة \n  \nهذه هي فرصتكم لتقوية مستوى اللغة الإنجليزية لديكم مع مدربي مركز مناظرات قطر، اضغط هنا للتسجيل في البرنامج الآن. \n  \n 
URL:https://www.qatardebate.org/ar/event-ar/qatardebate-us-embassy-english-speaking-club/
LOCATION:Online
CATEGORIES:English Programs,قسم اللغة الإنجليزية
ATTACH;FMTTYPE=image/jpeg:https://www.qatardebate.org/wp-content/uploads/2020/09/QD-website-1-scaled.jpg
ORGANIZER;CN="QatarDebate":MAILTO:qatardebate@qf.org.qa
END:VEVENT
BEGIN:VEVENT
DTSTART;TZID=Asia/Qatar:20201005T160000
DTEND;TZID=Asia/Qatar:20201021T190000
DTSTAMP:20260424T120537
CREATED:20200906T142908Z
LAST-MODIFIED:20200924T064501Z
UID:3885-1601913600-1603306800@www.qatardebate.org
SUMMARY:تدريب وإدارة نادي مناظرات
DESCRIPTION:عن الورشة \nتستهدف سلسلة التدريب هذه المدربين والمنسقين الجدد والحاليين في مجتمع مناظرات المدارس الخاص بنا. وهي عبارة عن سلسلة من 5 جلسات تدريبية للمعلمين وطلاب الجامعات لتسهيل تقديم المناظرات أو إدارة نوادي وأنشطة المناظرة في المدارس. يهدف التدريب إلى تزويد مدربي المناظرات الطموحين بمجموعة من الأدوات والموارد حول كيفية بدء أو إعادة إشعال نادي مناظرات وإدارة الجلسات بشكل مستقل في نوادي المناظرات الخاصة بهم. \n  \nالتاريخ: خمس ورش تدريبية، ٥ – ٢١ أكتوبر ٢٠٢٠. \nالوقت: ٤:٠٠ = ٧:٠٠ مساءً \n  \nللتسجيل اضغط هنا \nللاستفسار أو لمزيد من المعلومات يمكنكم الت،اصل معنا عبر العنوان التالي: qdep@qf.org.qa \n*هذه الورشة باللغة الإنجليزية. \n 
URL:https://www.qatardebate.org/ar/event-ar/%d8%aa%d8%af%d8%b1%d9%8a%d8%a8-%d9%88%d8%a5%d8%af%d8%a7%d8%b1%d8%a9-%d9%86%d8%a7%d8%af%d9%8a-%d9%85%d9%86%d8%a7%d8%b8%d8%b1%d8%a7%d8%aa/
LOCATION:Online
CATEGORIES:English Programs,قسم اللغة الإنجليزية
ATTACH;FMTTYPE=image/jpeg:https://www.qatardebate.org/wp-content/uploads/2020/09/Feb.-2nd-QSDL-2-scaled.jpg
ORGANIZER;CN="QatarDebate":MAILTO:qatardebate@qf.org.qa
END:VEVENT
BEGIN:VEVENT
DTSTART;TZID=Asia/Qatar:20201003T100000
DTEND;TZID=Asia/Qatar:20201003T170000
DTSTAMP:20260424T120537
CREATED:20200906T124410Z
LAST-MODIFIED:20200906T135948Z
UID:3872-1601719200-1601744400@www.qatardebate.org
SUMMARY:مهارات التناظر وفق نظام البرلمان البريطاني
DESCRIPTION:عن الورشة \nيسر مركز مناظرات قطر أن يعلن عن انطلاق موسم المناظرات لسنة ٢٠٢٠-٢٠٢١ مع هذه الورشة الأساسية عن التناظر باستخدام نظام البرلمان البريطاني. \nستكون هذه الورشة للطلاب المبتدئين الجدد في المرحلة الجامعية والمتناظرين السابقين في مرحلة المدارس وينتقلون الآن إلى المرحلة الجامعية، بالإضافة إلى المحكمين الجدد لمن لهم رغبة في تحكيم جولات المناظرات بنظام البرلمان البريطاني. \n  \nالتاريخ: السبت، ٣ أكتوبر ٢٠٢٠. \nالوقت:  \n\nللمتناظرين – 10:00 صباحاً – 01:00 مساءً\nللمحكمين – 02:00 – 05:00 مساءً\n\n  \nللتسجيل اضغط هنا \nللاستفسار أو لمزيد من المعلومات يمكنكم الت،اصل معنا عبر العنوان التالي: qdep@qf.org.qa \n*هذه الورشة باللغة الإنجليزية. \n*آخر موعد للتسجيل: ٢٨ سبتمبر ٢٠٢٠ \n 
URL:https://www.qatardebate.org/ar/event-ar/bp-101-training/
LOCATION:Online
CATEGORIES:English Programs,قسم اللغة الإنجليزية
ATTACH;FMTTYPE=image/jpeg:https://www.qatardebate.org/wp-content/uploads/2020/09/6.-4th-QUDL-scaled.jpg
ORGANIZER;CN="QatarDebate":MAILTO:qatardebate@qf.org.qa
END:VEVENT
BEGIN:VEVENT
DTSTART;VALUE=DATE:20200901
DTEND;VALUE=DATE:20201002
DTSTAMP:20260424T120537
CREATED:20200901T151601Z
LAST-MODIFIED:20200924T101543Z
UID:3835-1598918400-1601596799@www.qatardebate.org
SUMMARY:فريق عنابي المناظرات ٢٠٢٠-٢٠٢١
DESCRIPTION:سجل للانضمام إلى فريق عنابي المناظرات\n  \nيسر مركز مناظرات قطر الإعلان عن فتح باب التسجيل للانضمام إلى فريق عنابي المناظرات باللغة الإنجليزية، الفريق الوطني للمناظرات والفريق الممثل لدولة قطر في بطولة العالم لمناظرات المدارس القادمة في صيف ٢٠٢١ والتي تستضيفها ماكاو. \n  \nشروط الانضمام إلى فريق عنابي المناظرات؟\n– حامل للجنسية القطرية \n– أن يكون عمر المتقدم / المتقدمة بين ١٤ – ١٩ عام (قبل صيف ٢٠٢١) – للمتقدمين دون سن ال١٢ سيحق لهم المشاركة في فريق الناشئين. \n– لا يشترط أن يملك المتقدم / المتقدمة خبرة سابقة في مجال المناظرات. \n– قادر على ممارسة اللغة الإنجليزية بشكل جيد. \n  \nعند التسجيل سيكون هناك مشاركة في سلسلة من الجلسات والورش التدريبية ابتداءًا من ٤ أكتوبر ٢٠٢٠ وصولاً إلى مرحلة التصفيات واختيار الفريق المكون من ٥ أفراد وسيشرف على تدريب واختيار الفريق عدد من مدربي مركز مناظرات قطر. \n  \nاضغط هنا للتسجيل \n 
URL:https://www.qatardebate.org/ar/event-ar/team-qatar-2020-2021/
CATEGORIES:English Programs,قسم اللغة الإنجليزية
ATTACH;FMTTYPE=image/jpeg:https://www.qatardebate.org/wp-content/uploads/2020/09/DCS-5-scaled.jpg
ORGANIZER;CN="QatarDebate":MAILTO:qatardebate@qf.org.qa
END:VEVENT
BEGIN:VEVENT
DTSTART;TZID=Asia/Qatar:20200706T150000
DTEND;TZID=Asia/Qatar:20200715T170000
DTSTAMP:20260424T120537
CREATED:20200706T113210Z
LAST-MODIFIED:20200706T113726Z
UID:3453-1594047600-1594832400@www.qatardebate.org
SUMMARY:برنامج المناظرة للمبتدئين
DESCRIPTION:برنامج مصمم لنشر فن النقاش والمناظرات المصاحبة له\, باستخدام منصة على الإنترنت للتأكد من أن البرامج متاحة بسهولة ويمكن للجميع الوصول إليها من منازلهم. على هذا النحو\, يعقد مركز مناظرات قطر\, وبالتعاون مع مشاركة الطلاب\, سلسلة مهارات المناظرة\, والتي ستركز على تطوير وتعزيز مهارات النقاش للمبتدئين باللغتين العربية والإنجليزية. \nالتاريخ: \n6 – 8 يوليو\n13 – 15 يوليو \nالوقت:\n3:00 – 4:00 مساءً – الجلسة باللغة الإنجليزية\n4:00 – 5:00 مساءً – الجلسة باللغة العربية \nلمزيد من المعلومات وللانضمام إلى الجلسة اضغط هنا: https://educationcity.qa/Debating_Program
URL:https://www.qatardebate.org/ar/event-ar/debating-program-for-beginners/
CATEGORIES:Arabic Programs,English Programs
ATTACH;FMTTYPE=image/jpeg:https://www.qatardebate.org/wp-content/uploads/2020/07/Local-tournaments-4-scaled.jpg
END:VEVENT
END:VCALENDAR