BEGIN:VCALENDAR
VERSION:2.0
PRODID:-//QatarDebate Center - ECPv6.15.20//NONSGML v1.0//EN
CALSCALE:GREGORIAN
METHOD:PUBLISH
X-WR-CALNAME:QatarDebate Center
X-ORIGINAL-URL:https://www.qatardebate.org/ar/
X-WR-CALDESC:Events for QatarDebate Center
REFRESH-INTERVAL;VALUE=DURATION:PT1H
X-Robots-Tag:noindex
X-PUBLISHED-TTL:PT1H
BEGIN:VTIMEZONE
TZID:Asia/Qatar
BEGIN:STANDARD
TZOFFSETFROM:+0300
TZOFFSETTO:+0300
TZNAME:+03
DTSTART:20240101T000000
END:STANDARD
END:VTIMEZONE
BEGIN:VEVENT
DTSTART;TZID=Asia/Qatar:20250902T190000
DTEND;TZID=Asia/Qatar:20250902T203000
DTSTAMP:20260419T233712
CREATED:20250825T082153Z
LAST-MODIFIED:20250826T154119Z
UID:20808-1756839600-1756845000@www.qatardebate.org
SUMMARY:قطر تتحاور - من الحلم إلى الحقيقة: مسيرة رواد الأعمال في قطر
DESCRIPTION:نبذة عامة				\n				\n				\n				\n							\n			\n						\n		\n						\n				\n				\n				\n									نظراً للظروف الراهنة وحرصاً على سلامة جميع المشاركين، سيتم تأجيل البطولة الدولية الثامنة لمناظرات الجامعات حتى إشعار آخر. نُقدّر تفهمكم لهذا القرار، وسيتم تزويدكم بكافة المستجدات المتعلقة بالمواعيد الجديدة حال اعتمادها. 								\n				\n				\n				\n					تفاصيل البرنامج				\n				\n				\n						\n					\n			\n						\n				\n							\n\n						\n				\n								\n			\n			\n						\n\n									\n						\n							التاريخ						\n					\n				\n									\n						تم تأجيل البطولة، سيتم مشاركة المواعيد الجديدة قريبا					 \n				\n			\n			\n		\n						\n				\n					\n		\n				\n			\n						\n				\n							\n\n						\n				\n								\n			\n			\n						\n\n									\n						\n							المكان						\n					\n				\n									\n						الدوحة، قطر 					 \n				\n			\n			\n		\n						\n				\n					\n		\n					\n		\n				\n				\n					اكتشف المزيد من هنا				\n				\n				\n				\n									\n					\n						\n									اضغط هنا
URL:https://www.qatardebate.org/ar/event-ar/qatar-connects-2/
LOCATION:QatarDebate Center\, Education City\, Doha\, Doha\, 00974\, Qatar
CATEGORIES:Outreach Programs
ATTACH;FMTTYPE=image/jpeg:https://www.qatardebate.org/wp-content/uploads/2025/08/QC-logo-QD-02.jpg
ORGANIZER;CN="QatarDebate":MAILTO:qatardebate@qf.org.qa
END:VEVENT
BEGIN:VEVENT
DTSTART;VALUE=DATE:20250926
DTEND;VALUE=DATE:20250929
DTSTAMP:20260419T233712
CREATED:20250714T081657Z
LAST-MODIFIED:20250714T084521Z
UID:20644-1758844800-1759103999@www.qatardebate.org
SUMMARY:البطولة الأمريكية السادسة لمناظرات الجامعات باللغة العربية
DESCRIPTION:نبذة عامة				\n				\n				\n				\n							\n			\n						\n		\n						\n				\n				\n				\n									نظراً للظروف الراهنة وحرصاً على سلامة جميع المشاركين، سيتم تأجيل البطولة الدولية الثامنة لمناظرات الجامعات حتى إشعار آخر. نُقدّر تفهمكم لهذا القرار، وسيتم تزويدكم بكافة المستجدات المتعلقة بالمواعيد الجديدة حال اعتمادها. 								\n				\n				\n				\n					تفاصيل البرنامج				\n				\n				\n						\n					\n			\n						\n				\n							\n\n						\n				\n								\n			\n			\n						\n\n									\n						\n							التاريخ						\n					\n				\n									\n						تم تأجيل البطولة، سيتم مشاركة المواعيد الجديدة قريبا					 \n				\n			\n			\n		\n						\n				\n					\n		\n				\n			\n						\n				\n							\n\n						\n				\n								\n			\n			\n						\n\n									\n						\n							المكان						\n					\n				\n									\n						الدوحة، قطر 					 \n				\n			\n			\n		\n						\n				\n					\n		\n					\n		\n				\n				\n					اكتشف المزيد من هنا				\n				\n				\n				\n									\n					\n						\n									اضغط هنا
URL:https://www.qatardebate.org/ar/event-ar/6th-usadc/
LOCATION:New York City\, NY\, United States
CATEGORIES:Outreach Programs,برامج التواصل
ATTACH;FMTTYPE=image/jpeg:https://www.qatardebate.org/wp-content/uploads/2024/10/USADC5-8.jpeg
ORGANIZER;CN="QatarDebate":MAILTO:qatardebate@qf.org.qa
END:VEVENT
BEGIN:VEVENT
DTSTART;TZID=Asia/Qatar:20250927T080000
DTEND;TZID=Asia/Qatar:20251001T190000
DTSTAMP:20260419T233712
CREATED:20250916T073535Z
LAST-MODIFIED:20250916T074932Z
UID:20946-1758960000-1759345200@www.qatardebate.org
SUMMARY:تدريب وإدارة نادي مناظرات
DESCRIPTION:نبذة عامة				\n				\n				\n				\n							\n			\n						\n		\n						\n				\n				\n				\n									نظراً للظروف الراهنة وحرصاً على سلامة جميع المشاركين، سيتم تأجيل البطولة الدولية الثامنة لمناظرات الجامعات حتى إشعار آخر. نُقدّر تفهمكم لهذا القرار، وسيتم تزويدكم بكافة المستجدات المتعلقة بالمواعيد الجديدة حال اعتمادها. 								\n				\n				\n				\n					تفاصيل البرنامج				\n				\n				\n						\n					\n			\n						\n				\n							\n\n						\n				\n								\n			\n			\n						\n\n									\n						\n							التاريخ						\n					\n				\n									\n						تم تأجيل البطولة، سيتم مشاركة المواعيد الجديدة قريبا					 \n				\n			\n			\n		\n						\n				\n					\n		\n				\n			\n						\n				\n							\n\n						\n				\n								\n			\n			\n						\n\n									\n						\n							المكان						\n					\n				\n									\n						الدوحة، قطر 					 \n				\n			\n			\n		\n						\n				\n					\n		\n					\n		\n				\n				\n					اكتشف المزيد من هنا				\n				\n				\n				\n									\n					\n						\n									اضغط هنا
URL:https://www.qatardebate.org/ar/event-ar/running-coaching-debate-clubs-6/
LOCATION:QatarDebate Center\, Education City\, Doha\, Doha\, 00974\, Qatar
CATEGORIES:English Programs,قسم اللغة الإنجليزية
ATTACH;FMTTYPE=image/jpeg:https://www.qatardebate.org/wp-content/uploads/2025/09/running-Coaching.jpeg
ORGANIZER;CN="QatarDebate":MAILTO:qatardebate@qf.org.qa
END:VEVENT
BEGIN:VEVENT
DTSTART;TZID=Asia/Qatar:20250927T100000
DTEND;TZID=Asia/Qatar:20250927T150000
DTSTAMP:20260419T233712
CREATED:20250915T120046Z
LAST-MODIFIED:20250916T064331Z
UID:20929-1758967200-1758985200@www.qatardebate.org
SUMMARY:مهارات التناظر وفق نظام البرلمان البريطاني
DESCRIPTION:نبذة عامة				\n				\n				\n				\n							\n			\n						\n		\n						\n				\n				\n				\n									نظراً للظروف الراهنة وحرصاً على سلامة جميع المشاركين، سيتم تأجيل البطولة الدولية الثامنة لمناظرات الجامعات حتى إشعار آخر. نُقدّر تفهمكم لهذا القرار، وسيتم تزويدكم بكافة المستجدات المتعلقة بالمواعيد الجديدة حال اعتمادها. 								\n				\n				\n				\n					تفاصيل البرنامج				\n				\n				\n						\n					\n			\n						\n				\n							\n\n						\n				\n								\n			\n			\n						\n\n									\n						\n							التاريخ						\n					\n				\n									\n						تم تأجيل البطولة، سيتم مشاركة المواعيد الجديدة قريبا					 \n				\n			\n			\n		\n						\n				\n					\n		\n				\n			\n						\n				\n							\n\n						\n				\n								\n			\n			\n						\n\n									\n						\n							المكان						\n					\n				\n									\n						الدوحة، قطر 					 \n				\n			\n			\n		\n						\n				\n					\n		\n					\n		\n				\n				\n					اكتشف المزيد من هنا				\n				\n				\n				\n									\n					\n						\n									اضغط هنا
URL:https://www.qatardebate.org/ar/event-ar/bp-101-university-debating-for-beginners-2/
LOCATION:QatarDebate Center\, Education City\, Doha\, Doha\, 00974\, Qatar
CATEGORIES:English Programs
ATTACH;FMTTYPE=image/jpeg:https://www.qatardebate.org/wp-content/uploads/2025/09/BP101-25-26.jpeg
ORGANIZER;CN="QatarDebate":MAILTO:qatardebate@qf.org.qa
END:VEVENT
BEGIN:VEVENT
DTSTART;TZID=Asia/Qatar:20250928T080000
DTEND;TZID=Asia/Qatar:20251130T170000
DTSTAMP:20260419T233712
CREATED:20250916T082304Z
LAST-MODIFIED:20250916T083518Z
UID:20969-1759046400-1764522000@www.qatardebate.org
SUMMARY:الفريق الوطني للمناظرات باللغة الإنجليزية 2026
DESCRIPTION:نبذة عامة				\n				\n				\n				\n							\n			\n						\n		\n						\n				\n				\n				\n									نظراً للظروف الراهنة وحرصاً على سلامة جميع المشاركين، سيتم تأجيل البطولة الدولية الثامنة لمناظرات الجامعات حتى إشعار آخر. نُقدّر تفهمكم لهذا القرار، وسيتم تزويدكم بكافة المستجدات المتعلقة بالمواعيد الجديدة حال اعتمادها. 								\n				\n				\n				\n					تفاصيل البرنامج				\n				\n				\n						\n					\n			\n						\n				\n							\n\n						\n				\n								\n			\n			\n						\n\n									\n						\n							التاريخ						\n					\n				\n									\n						تم تأجيل البطولة، سيتم مشاركة المواعيد الجديدة قريبا					 \n				\n			\n			\n		\n						\n				\n					\n		\n				\n			\n						\n				\n							\n\n						\n				\n								\n			\n			\n						\n\n									\n						\n							المكان						\n					\n				\n									\n						الدوحة، قطر 					 \n				\n			\n			\n		\n						\n				\n					\n		\n					\n		\n				\n				\n					اكتشف المزيد من هنا				\n				\n				\n				\n									\n					\n						\n									اضغط هنا
URL:https://www.qatardebate.org/ar/event-ar/english-national-debate-team-2025-2026/
LOCATION:QatarDebate Center\, Education City\, Doha\, Doha\, 00974\, Qatar
CATEGORIES:قسم اللغة الإنجليزية
ATTACH;FMTTYPE=image/jpeg:https://www.qatardebate.org/wp-content/uploads/2025/09/TQ.jpeg
ORGANIZER;CN="QatarDebate":MAILTO:qatardebate@qf.org.qa
END:VEVENT
END:VCALENDAR