BEGIN:VCALENDAR
VERSION:2.0
PRODID:-//QatarDebate Center - ECPv6.15.20//NONSGML v1.0//EN
CALSCALE:GREGORIAN
METHOD:PUBLISH
X-WR-CALNAME:QatarDebate Center
X-ORIGINAL-URL:https://www.qatardebate.org
X-WR-CALDESC:Events for QatarDebate Center
REFRESH-INTERVAL;VALUE=DURATION:PT1H
X-Robots-Tag:noindex
X-PUBLISHED-TTL:PT1H
BEGIN:VTIMEZONE
TZID:Asia/Qatar
BEGIN:STANDARD
TZOFFSETFROM:+0300
TZOFFSETTO:+0300
TZNAME:+03
DTSTART:20240101T000000
END:STANDARD
END:VTIMEZONE
BEGIN:VEVENT
DTSTART;TZID=Asia/Qatar:20250928T080000
DTEND;TZID=Asia/Qatar:20251130T170000
DTSTAMP:20260423T135733
CREATED:20250916T082304Z
LAST-MODIFIED:20250916T082704Z
UID:20962-1759046400-1764522000@www.qatardebate.org
SUMMARY:English National Debate Team 2025-2026
DESCRIPTION:Overview				\n				\n				\n				\n									This prestigious gathering of the world’s brightest minds witnessed passionate debates on critical global issues\, fostering critical thinking and open dialogue. The championship provided a platform for students to showcase their intellectual prowess and engage in thought-provoking discussions\, making it a truly remarkable event. 								\n				\n				\n				\n					Program Details				\n				\n				\n						\n					\n			\n						\n				\n							\n\n						\n				\n								\n			\n			\n						\n\n									\n						\n							Date & Time						\n					\n				\n									\n						Championship has been postponed					 \n				\n			\n			\n		\n						\n				\n					\n		\n				\n			\n						\n				\n							\n\n						\n				\n								\n			\n			\n						\n\n									\n						\n							Location						\n					\n				\n									\n						Doha\, Qatar					 \n				\n			\n			\n		\n						\n				\n					\n		\n					\n		\n				\n				\n							\n			\n						\n		\n						\n				\n				\n				\n									Due to current circumstances and in ensuring the safety of all participants\, QatarDebate Center announces the postponement of the 8th International Universities Arabic Debating Championship until further notice. We are monitoring the situation closely and will share the new dates as soon as they are finalized. The safety of our community remains our utmost priority. 								\n				\n				\n				\n					Find Out More Here				\n				\n				\n				\n									\n					\n						\n									Click Here
URL:https://www.qatardebate.org/event/english-national-debate-team-2025-2026/
LOCATION:QatarDebate Center\, Education City\, Doha\, Doha\, 00974\, Qatar
ATTACH;FMTTYPE=image/jpeg:https://www.qatardebate.org/wp-content/uploads/2025/09/TQ.jpeg
ORGANIZER;CN="QatarDebate":MAILTO:qatardebate@qf.org.qa
END:VEVENT
BEGIN:VEVENT
DTSTART;TZID=Asia/Qatar:20251007T160000
DTEND;TZID=Asia/Qatar:20251125T180000
DTSTAMP:20260423T135733
CREATED:20250916T075744Z
LAST-MODIFIED:20250922T150719Z
UID:20950-1759852800-1764093600@www.qatardebate.org
SUMMARY:Debate Academy – Fall 2025
DESCRIPTION:Overview				\n				\n				\n				\n									This prestigious gathering of the world’s brightest minds witnessed passionate debates on critical global issues\, fostering critical thinking and open dialogue. The championship provided a platform for students to showcase their intellectual prowess and engage in thought-provoking discussions\, making it a truly remarkable event. 								\n				\n				\n				\n					Program Details				\n				\n				\n						\n					\n			\n						\n				\n							\n\n						\n				\n								\n			\n			\n						\n\n									\n						\n							Date & Time						\n					\n				\n									\n						Championship has been postponed					 \n				\n			\n			\n		\n						\n				\n					\n		\n				\n			\n						\n				\n							\n\n						\n				\n								\n			\n			\n						\n\n									\n						\n							Location						\n					\n				\n									\n						Doha\, Qatar					 \n				\n			\n			\n		\n						\n				\n					\n		\n					\n		\n				\n				\n							\n			\n						\n		\n						\n				\n				\n				\n									Due to current circumstances and in ensuring the safety of all participants\, QatarDebate Center announces the postponement of the 8th International Universities Arabic Debating Championship until further notice. We are monitoring the situation closely and will share the new dates as soon as they are finalized. The safety of our community remains our utmost priority. 								\n				\n				\n				\n					Find Out More Here				\n				\n				\n				\n									\n					\n						\n									Click Here
URL:https://www.qatardebate.org/event/debate-academy-fall-2025/
LOCATION:QatarDebate Center\, Education City\, Doha\, Doha\, 00974\, Qatar
ATTACH;FMTTYPE=image/jpeg:https://www.qatardebate.org/wp-content/uploads/2025/09/debate-academy.jpeg
ORGANIZER;CN="QatarDebate":MAILTO:qatardebate@qf.org.qa
END:VEVENT
BEGIN:VEVENT
DTSTART;TZID=Asia/Qatar:20251104T080000
DTEND;TZID=Asia/Qatar:20251106T170000
DTSTAMP:20260423T135733
CREATED:20250923T022650Z
LAST-MODIFIED:20250923T025654Z
UID:20978-1762243200-1762448400@www.qatardebate.org
SUMMARY:QatarDebate at the World Summit for Social Development
DESCRIPTION:Overview				\n				\n				\n				\n									This prestigious gathering of the world’s brightest minds witnessed passionate debates on critical global issues\, fostering critical thinking and open dialogue. The championship provided a platform for students to showcase their intellectual prowess and engage in thought-provoking discussions\, making it a truly remarkable event. 								\n				\n				\n				\n					Program Details				\n				\n				\n						\n					\n			\n						\n				\n							\n\n						\n				\n								\n			\n			\n						\n\n									\n						\n							Date & Time						\n					\n				\n									\n						Championship has been postponed					 \n				\n			\n			\n		\n						\n				\n					\n		\n				\n			\n						\n				\n							\n\n						\n				\n								\n			\n			\n						\n\n									\n						\n							Location						\n					\n				\n									\n						Doha\, Qatar					 \n				\n			\n			\n		\n						\n				\n					\n		\n					\n		\n				\n				\n							\n			\n						\n		\n						\n				\n				\n				\n									Due to current circumstances and in ensuring the safety of all participants\, QatarDebate Center announces the postponement of the 8th International Universities Arabic Debating Championship until further notice. We are monitoring the situation closely and will share the new dates as soon as they are finalized. The safety of our community remains our utmost priority. 								\n				\n				\n				\n					Find Out More Here				\n				\n				\n				\n									\n					\n						\n									Click Here
URL:https://www.qatardebate.org/event/qd-wss/
LOCATION:QNCC – Qatar National Convention Center\, Education City\, Doha\, Doha\, 00974\, Qatar
CATEGORIES:Outreach Programs
ATTACH;FMTTYPE=image/jpeg:https://www.qatardebate.org/wp-content/uploads/2025/09/WhatsApp-Image-2025-09-23-at-5.24.45-AM.jpeg
END:VEVENT
END:VCALENDAR