BEGIN:VCALENDAR
VERSION:2.0
PRODID:-//QatarDebate Center - ECPv6.15.20//NONSGML v1.0//EN
CALSCALE:GREGORIAN
METHOD:PUBLISH
X-WR-CALNAME:QatarDebate Center
X-ORIGINAL-URL:https://www.qatardebate.org
X-WR-CALDESC:Events for QatarDebate Center
REFRESH-INTERVAL;VALUE=DURATION:PT1H
X-Robots-Tag:noindex
X-PUBLISHED-TTL:PT1H
BEGIN:VTIMEZONE
TZID:Asia/Qatar
BEGIN:STANDARD
TZOFFSETFROM:+0300
TZOFFSETTO:+0300
TZNAME:+03
DTSTART:20190101T000000
END:STANDARD
END:VTIMEZONE
BEGIN:VEVENT
DTSTART;VALUE=DATE:20201114
DTEND;VALUE=DATE:20201115
DTSTAMP:20260423T173445
CREATED:20201112T090920Z
LAST-MODIFIED:20210219T042453Z
UID:4269-1605312000-1605398399@www.qatardebate.org
SUMMARY:2nd QUDL - 2020/2021
DESCRIPTION:This Saturday QatarDebate is hosting the 2nd Qatar Universities Debate League for the 2020/2021 season. \n  \nIn this online tournament we will witness the participation of 24 teams from 8 universities\, who will compete among them for the QUDL title. \nGood Luck all !! \n  \nFor more inquires please contact us at: qdep@qf.org.qa \n 
URL:https://www.qatardebate.org/event/2nd-qudl-2020-2021/
LOCATION:Online
CATEGORIES:English Programs
ATTACH;FMTTYPE=image/jpeg:https://www.qatardebate.org/wp-content/uploads/2021/02/7-4-scaled-300x300-1.jpg
ORGANIZER;CN="QatarDebate":MAILTO:qatardebate@qf.org.qa
END:VEVENT
BEGIN:VEVENT
DTSTART;VALUE=DATE:20201107
DTEND;VALUE=DATE:20201108
DTSTAMP:20260423T173445
CREATED:20201105T112632Z
LAST-MODIFIED:20210219T043020Z
UID:4273-1604707200-1604793599@www.qatardebate.org
SUMMARY:1st QSDL for Boys - 2020/2021
DESCRIPTION:The 1st Qatar Schools Debate League for boys. \nThis edition of the QSDL will be unique as it will be held virtually with the participation of 34 teams from 20 schools in Qatar who will compete among them for the QSDL title for this season. \n  \nFor more inquires please contact us at: qdep@qf.org.qa \n 
URL:https://www.qatardebate.org/event/1st-qsdl-for-boys-2020-2021/
LOCATION:Online
CATEGORIES:English Programs
ATTACH;FMTTYPE=image/jpeg:https://www.qatardebate.org/wp-content/uploads/2021/02/Local-tournaments-1-scaled-300x300-1.jpg
ORGANIZER;CN="QatarDebate":MAILTO:qatardebate@qf.org.qa
END:VEVENT
BEGIN:VEVENT
DTSTART;VALUE=DATE:20201107
DTEND;VALUE=DATE:20201108
DTSTAMP:20260423T173445
CREATED:20201105T112616Z
LAST-MODIFIED:20210219T050150Z
UID:4281-1604707200-1604793599@www.qatardebate.org
SUMMARY:1st QSDL for Boys - 2020/2021
DESCRIPTION:The 1st Qatar Schools Debate League for boys. \nThis edition of the QSDL will be unique as it will be held virtually with the participation of 34 teams from 20 schools in Qatar who will compete among them for the QSDL title for this season. \n  \nFor more inquires please contact us at: qdep@qf.org.qa \n 
URL:https://www.qatardebate.org/event/1st-qsdl-for-boys-2020-2021-2/
LOCATION:Online
CATEGORIES:English Programs
ATTACH;FMTTYPE=image/jpeg:https://www.qatardebate.org/wp-content/uploads/2021/02/Local-tournaments-1-scaled-300x300-1-1.jpg
ORGANIZER;CN="QatarDebate":MAILTO:qatardebate@qf.org.qa
END:VEVENT
BEGIN:VEVENT
DTSTART;VALUE=DATE:20201031
DTEND;VALUE=DATE:20201101
DTSTAMP:20260423T173445
CREATED:20201022T083200Z
LAST-MODIFIED:20201022T083200Z
UID:4176-1604102400-1604188799@www.qatardebate.org
SUMMARY:1st QSDL for Girls - 2020/2021
DESCRIPTION:The 1st Qatar Schools Debate League for girls. \nThis edition of the QSDL will be unique as it will be held virtually with the participation of many high schools in Qatar who will compete among them for the QSDL title for this season. \n  \nFor more inquires please contact us at: qdep@qf.org.qa \n 
URL:https://www.qatardebate.org/event/1st-qsdl-for-girls-2020-2021/
LOCATION:Online
CATEGORIES:English Programs
ATTACH;FMTTYPE=image/jpeg:https://www.qatardebate.org/wp-content/uploads/2020/10/5-1-scaled.jpg
ORGANIZER;CN="QatarDebate":MAILTO:qatardebate@qf.org.qa
END:VEVENT
BEGIN:VEVENT
DTSTART;VALUE=DATE:20201024
DTEND;VALUE=DATE:20201025
DTSTAMP:20260423T173445
CREATED:20201022T075940Z
LAST-MODIFIED:20201022T100621Z
UID:4169-1603497600-1603583999@www.qatardebate.org
SUMMARY:1st QUDL - 2020/2021
DESCRIPTION:We are pleased to kickoff the 2020/2021 debate season with the 1st Qatar Universities Debate League. \nThis edition of the QUDL will be unique as it will be held virtually with the participation of many universities in Qatar who will compete among them for the QUDL title for this season. \nWe are expecting 30 teams from 10 universities. \nGood Luck all !! \n  \nFor more inquires please contact us at: qdep@qf.org.qa \n 
URL:https://www.qatardebate.org/event/1st-qudl-2020-2021/
LOCATION:Online
CATEGORIES:English Programs
ATTACH;FMTTYPE=image/jpeg:https://www.qatardebate.org/wp-content/uploads/2020/10/QUDL-scaled.jpg
ORGANIZER;CN="QatarDebate":MAILTO:qatardebate@qf.org.qa
END:VEVENT
BEGIN:VEVENT
DTSTART;TZID=Asia/Qatar:20201006T160000
DTEND;TZID=Asia/Qatar:20201110T180000
DTSTAMP:20260423T173445
CREATED:20200906T173155Z
LAST-MODIFIED:20200906T174247Z
UID:3891-1602000000-1605031200@www.qatardebate.org
SUMMARY:Open workshop series
DESCRIPTION:Overview \nQatarDebate’s Open High School Workshops are a core part of our regular learning programs offered to high schools students. \nThe workshops are a gateway to school students to develop their debate skills further and to deeply explore this field. \n  \nDate: 6 sessions – 6th October – 10th November 2020. \nTime: 4:00 – 6:00 PM \n  \nClick Here to register \nFor more information or for any inquiries\, please contact us at: qdep@qf.org.qa \n*ِRegistration deadline: 28th September 2020. \n 
URL:https://www.qatardebate.org/event/open-workshop-series-2/
LOCATION:Online
CATEGORIES:English Programs
ATTACH;FMTTYPE=image/jpeg:https://www.qatardebate.org/wp-content/uploads/2020/09/Feb.-4th-QUDL-1-scaled.jpg
ORGANIZER;CN="QatarDebate":MAILTO:qatardebate@qf.org.qa
END:VEVENT
BEGIN:VEVENT
DTSTART;TZID=Asia/Qatar:20201005T160000
DTEND;TZID=Asia/Qatar:20201102T173000
DTSTAMP:20260423T173445
CREATED:20200903T080854Z
LAST-MODIFIED:20200923T104709Z
UID:3855-1601913600-1604338200@www.qatardebate.org
SUMMARY:QatarDebate-US Embassy: English Speaking Club
DESCRIPTION:English Speaking Club\n  \nOverview \nThe aim of this Club is to provide participants with a space where they can practice speaking in conversational English\, develop a clearer understanding of how to communicate effectively\, and be ready to engage in discussions with confidence in expressing their views. \n  \nDate: 5 sessions every Monday\, from 5th October until 2nd November 2020. \nTime: 4:00-5:30 pm \nLocation: Online – more details about the session will be communicated to participants \n  \nThis is your chance to enhance your English language skills with our debate coaches through this training program\, Click Here to register now. \n  \n 
URL:https://www.qatardebate.org/event/qatardebate-us-embassy-english-speaking-club/
LOCATION:Online
CATEGORIES:English Programs
ATTACH;FMTTYPE=image/jpeg:https://www.qatardebate.org/wp-content/uploads/2020/09/QD-website-1-scaled.jpg
ORGANIZER;CN="QatarDebate":MAILTO:qatardebate@qf.org.qa
END:VEVENT
BEGIN:VEVENT
DTSTART;TZID=Asia/Qatar:20201005T160000
DTEND;TZID=Asia/Qatar:20201021T190000
DTSTAMP:20260423T173445
CREATED:20200906T142314Z
LAST-MODIFIED:20200923T104657Z
UID:3884-1601913600-1603306800@www.qatardebate.org
SUMMARY:Running & Coaching Debate Clubs
DESCRIPTION:Overview \nThis training series targets new and existing coaches and coordinators in our QSDL community. It is a series of 5 training sessions for teachers and universities students facilitating introducing debate or managing debate clubs and activities in schools. The training aims to equip aspiring debate coaches with a range of tools and resources on how to start or reignite a debate club and independently run sessions at their respective debate clubs. \n  \nDate: 5 sessions – 5th – 21st October 2020. \nTime: 4:00 – 7:00 PM \n  \nClick Here to register \nFor more information or for any inquiries\, please contact us at: qdep@qf.org.qa \n 
URL:https://www.qatardebate.org/event/running-coaching-debate-clubs/
LOCATION:Online
CATEGORIES:English Programs
ATTACH;FMTTYPE=image/jpeg:https://www.qatardebate.org/wp-content/uploads/2020/09/Feb.-2nd-QSDL-2-scaled.jpg
ORGANIZER;CN="QatarDebate":MAILTO:qatardebate@qf.org.qa
END:VEVENT
BEGIN:VEVENT
DTSTART;TZID=Asia/Qatar:20201003T100000
DTEND;TZID=Asia/Qatar:20201003T170000
DTSTAMP:20260423T173445
CREATED:20200906T124410Z
LAST-MODIFIED:20200910T082332Z
UID:3867-1601719200-1601744400@www.qatardebate.org
SUMMARY:BP 101: Debaters & Adjudicators Training
DESCRIPTION:Overview \nQatarDebate is pleased to kickoff the 2020-2021 season with this introductory workshop on British Parliamentary format debating and adjudicating British parliamentary style debates. \nThis will be a beginners training for university freshmen and school debaters who are transitioning into the university circuit\, as well as new adjudicators who wish to adjudicate BP format debates. \n  \nDate: Saturday\, October 3rd 2020. \nTime:  \n\nDebaters – 10:00 am – 01:00 pm\nJudges – 02:00 pm – 05:00 pm\n\n  \nClick Here to register \nFor more information or for any inquiries\, please contact us at: qdep@qf.org.qa \n*ِRegistration deadline: 28th September 2020. \n 
URL:https://www.qatardebate.org/event/bp-101-training/
LOCATION:Online
CATEGORIES:English Programs
ATTACH;FMTTYPE=image/jpeg:https://www.qatardebate.org/wp-content/uploads/2020/09/6.-4th-QUDL-scaled.jpg
ORGANIZER;CN="QatarDebate":MAILTO:qatardebate@qf.org.qa
END:VEVENT
BEGIN:VEVENT
DTSTART;VALUE=DATE:20200901
DTEND;VALUE=DATE:20201002
DTSTAMP:20260423T173445
CREATED:20200901T151601Z
LAST-MODIFIED:20200924T101621Z
UID:3809-1598918400-1601596799@www.qatardebate.org
SUMMARY:Team Qatar 2020/2021
DESCRIPTION:Register to join Team Qatar\n  \nQatarDebate is pleased to announce the opening of the registration period to join Team Qatar\, the national Qatari debate team\, and the team that will represent Qatar in the next World Schools Debating Championship (WSDC) in the summer of 2021\, which will be hosted by Macau. \n  \nAre you eligible to join Team Qatar?\n\n– Qatari national\n– High School Student – between the age of 14 – 19 by July 2021(students as young as 11 to be considered for the development team)\n– No debate experience required.\n\n  \nUpon registration\, you will participate in a series of workshops and training sessions beginning October 4th\, 2020 leading up to the selection process\, where our team at QatarDebate will select up to 5 individuals who will represent Qatar in the WSDC 2021. \n  \nClick Here to register. \n 
URL:https://www.qatardebate.org/event/team-qatar-2020-2021/
CATEGORIES:English Programs
ATTACH;FMTTYPE=image/jpeg:https://www.qatardebate.org/wp-content/uploads/2020/09/DCS-5-scaled.jpg
ORGANIZER;CN="QatarDebate":MAILTO:qatardebate@qf.org.qa
END:VEVENT
BEGIN:VEVENT
DTSTART;TZID=Asia/Qatar:20200707T163000
DTEND;TZID=Asia/Qatar:20200707T180000
DTSTAMP:20260423T173445
CREATED:20200628T115953Z
LAST-MODIFIED:20200629T084041Z
UID:3314-1594139400-1594144800@www.qatardebate.org
SUMMARY:Skills Workshop 5: Refutation
DESCRIPTION:Skills Workshop 5\nRefutation\n  \nWorkshop OverviewThis workshop focuses on strategies to deconstruct arguments effectively. The session will include strategies on refuting principle\, policy and other direct and indirect refutations. \n  \nDate: Tuseday\, 7th July 2020 \nTime: 4:30 – 6:00 PM \n  \nImportant Notes: \n\nThis workshop is for school students between the age of 14 – 18 years old.\nOnce you register\, our team will reply with a confirmation of your acceptance to attend the workshop along with more details on the session.\n\n  \nRegister HERE
URL:https://www.qatardebate.org/event/skills-workshop-5-refutation/
LOCATION:QatarDebate Virtual Classroom\, Online\, Qatar
CATEGORIES:English Programs
ATTACH;FMTTYPE=image/jpeg:https://www.qatardebate.org/wp-content/uploads/2020/06/Local-tournaments-3-scaled.jpg
ORGANIZER;CN="QatarDebate":MAILTO:qatardebate@qf.org.qa
END:VEVENT
BEGIN:VEVENT
DTSTART;TZID=Asia/Qatar:20200706T150000
DTEND;TZID=Asia/Qatar:20200715T170000
DTSTAMP:20260423T173445
CREATED:20200706T113210Z
LAST-MODIFIED:20200706T113322Z
UID:3448-1594047600-1594832400@www.qatardebate.org
SUMMARY:Debating Program for beginners
DESCRIPTION:A program designed to spread the art of debate\, and the skills accompanying\, using an online platform to ensure that the programs are readily available and accessible to all from their homes. As such\, QatarDebate\, in collaboration with student engagement\, is holding a Debate Skills Series\, which will focus on developing and enhancing debate skills for Beginners in Arabic & English. \nDates: \n6th – 8th July\n13th – 15th July \nTimes:\n3:00 – 4:00 PM – English session\n4:00 – 5:00 PM – Arabic session \nFor more information and to join the session: https://educationcity.qa/en/Debating_Program
URL:https://www.qatardebate.org/event/debating-program-for-beginners/
CATEGORIES:Arabic Programs,English Programs
ATTACH;FMTTYPE=image/jpeg:https://www.qatardebate.org/wp-content/uploads/2020/07/Local-tournaments-4-scaled.jpg
END:VEVENT
BEGIN:VEVENT
DTSTART;TZID=Asia/Qatar:20200705T160000
DTEND;TZID=Asia/Qatar:20200705T183000
DTSTAMP:20260423T173445
CREATED:20200628T112254Z
LAST-MODIFIED:20200628T132730Z
UID:3306-1593964800-1593973800@www.qatardebate.org
SUMMARY:Skills Workshop 4: Argumentation
DESCRIPTION:Skills Workshop 4\nArgumentation\n  \nWorkshop Overview\nThis workshop focuses on what an argument is\, how to come up with arguments as well as the strategies of how to build and develop strong arguments (well analyzed and explained).\n \nDate: Sunday\, 5th July 2020 \nTime: 4:30 – 6:00 PM \n  \nImportant Notes: \n– This workshop is for school students between the age of 14 – 18 years old. \n– Once you register\, our team will reply with a confirmation of your acceptance to attend the workshop along with more details on the session. \n  \nRegister HERE
URL:https://www.qatardebate.org/event/skills-workshop-4-argumentation/
LOCATION:QatarDebate Virtual Classroom\, Online\, Qatar
CATEGORIES:English Programs
ATTACH;FMTTYPE=image/jpeg:https://www.qatardebate.org/wp-content/uploads/2020/06/2nd-QUDL-scaled.jpg
ORGANIZER;CN="QatarDebate":MAILTO:qatardebate@qf.org.qa
END:VEVENT
BEGIN:VEVENT
DTSTART;TZID=Asia/Qatar:20200630T160000
DTEND;TZID=Asia/Qatar:20200630T183000
DTSTAMP:20260423T173445
CREATED:20200625T090300Z
LAST-MODIFIED:20200628T132754Z
UID:3228-1593532800-1593541800@www.qatardebate.org
SUMMARY:Skills workshop 3: Motion Analysis & Case Building
DESCRIPTION:Skills workshop 3\nMotion Analysis & Case Building\nWorkshop Overview: \nThis skills workshop is focused on exposing beginner debaters to the different types of motions\, and the ways in which to debate them. Debaters will be able to identify the burdens required with each debate\, principle and policy debates\, as well as how to build cases and create policies. \n  \nDate: Tuesday\, 30th June 2020 \nTime: 4:30 – 6:00 PM \n  \nImportant Notes: \n– This workshop is for school students between the age of 14 – 18 years old. \n– Once you register\, our team will reply with a confirmation of your acceptance to attend the workshop along with more details on the session. \n  \nRegister HERE
URL:https://www.qatardebate.org/event/skills-workshop-3-motion-analysis-case-building/
LOCATION:QatarDebate Virtual Classroom\, Online\, Qatar
CATEGORIES:Arabic Programs,English Programs
ATTACH;FMTTYPE=image/jpeg:https://www.qatardebate.org/wp-content/uploads/2020/06/DCS-28-scaled.jpg
ORGANIZER;CN="QatarDebate":MAILTO:qatardebate@qf.org.qa
END:VEVENT
BEGIN:VEVENT
DTSTART;TZID=Asia/Qatar:20200628T163000
DTEND;TZID=Asia/Qatar:20200628T180000
DTSTAMP:20260423T173445
CREATED:20200625T084254Z
LAST-MODIFIED:20200628T132655Z
UID:3217-1593361800-1593367200@www.qatardebate.org
SUMMARY:Content Webinar 3: Debating Economics
DESCRIPTION:Content Webinar 3\nDebating Economics\nWorkshop Overview:\nThis is the first of 3 sessions that discuss popular theories and philosophies that are usually used in debates. Students will engage in lively discussions and research with coaches on subjects ranging from Economic Principles to International Relations\, Ethics & Morals\, etc. The theme for this session is Economics. \n  \nDate: Sunday\, 28th June 2020\nTime: 4:30 – 6:00 PM\n  \nImportant Notes:\n– This workshop is for school students between the age of 14 – 18 years old. \n– Once you register\, our team will reply with a confirmation of your acceptance to attend the workshop along with more details on the session. \n  \nRegister HERE
URL:https://www.qatardebate.org/event/content-webinar-3-debating-economics/
LOCATION:QatarDebate Virtual Classroom\, Online\, Qatar
CATEGORIES:Arabic Programs,English Programs
ATTACH;FMTTYPE=image/jpeg:https://www.qatardebate.org/wp-content/uploads/2020/06/DCS-27-scaled.jpg
ORGANIZER;CN="QatarDebate":MAILTO:qatardebate@qf.org.qa
END:VEVENT
END:VCALENDAR